View In :
ArcGIS JavaScript
ArcGIS Online Map Viewer
ArcGIS Earth
ArcMap
View Footprint In :
ArcGIS Online Map Viewer
Service Description : Ce service compile plusieurs sources d altimétrie (RGE ALTI 1m et BD ALTI) permettant de matérialiser l élévation dans vos couches de scènes 3D. Ce service n est pas adapté pour l analyse spatiale mais dédié uniquement à la visualisation 3D du sol. La méthode de compression LERC dégradant les valeurs de pixels, il est conseillé d utiliser le service Terrain pour vos analyses. Données de décembre 2024. Publication du service : novembre 2025.
Name : IGN/FranceDOM_RGEAlti_Terrain3D
Description : Ce service compile plusieurs sources d altimétrie (RGE ALTI 1m et BD ALTI) permettant de matérialiser l élévation dans vos couches de scènes 3D. Ce service n est pas adapté pour l analyse spatiale mais dédié uniquement à la visualisation 3D du sol. La méthode de compression LERC dégradant les valeurs de pixels, il est conseillé d utiliser le service Terrain pour vos analyses. Données de décembre 2024. Publication du service : novembre 2025.
Single Fused Map Cache : true
Tile Info :
- Height: 256
- Width: 256
- DPI: 96
- Levels of Detail : 20
- Level ID : 0 [ Start Tile, End Tile ]
- Resolution: 156543.03392800014
- Scale: 5.91657527591555E8
- Level ID : 1 [ Start Tile, End Tile ]
- Resolution: 78271.51696399994
- Scale: 2.95828763795777E8
- Level ID : 2 [ Start Tile, End Tile ]
- Resolution: 39135.75848200009
- Scale: 1.47914381897889E8
- Level ID : 3 [ Start Tile, End Tile ]
- Resolution: 19567.87924099992
- Scale: 7.3957190948944E7
- Level ID : 4 [ Start Tile, End Tile ]
- Resolution: 9783.93962049996
- Scale: 3.6978595474472E7
- Level ID : 5 [ Start Tile, End Tile ]
- Resolution: 4891.96981024998
- Scale: 1.8489297737236E7
- Level ID : 9 [ Start Tile, End Tile ]
- Resolution: 305.74811314055756
- Scale: 1155581.108577
- Level ID : 10 [ Start Tile, End Tile ]
- Resolution: 152.87405657041106
- Scale: 577790.554289
- Format: LERC
- Compression Quality: 0.0
- LERC Error: 0.1
- Origin: X: -2.0037508342787E7
Y: 2.0037508342787E7
- Spatial Reference: 102100 (3857) LatestVCSWkid(0)
Storage Info :
- Storage Format: esriMapCacheStorageModeCompactV2
- Packet Size: 128
Extent :
XMin: -7039476.7959
YMin: -2448566.0829000026
XMax: 6238074.2041
YMax: 6660235.917099997
Spatial Reference: 102100 (3857) LatestVCSWkid(0)
Initial Extent :
XMin: -7039476.7959
YMin: -2448566.0829000026
XMax: 6238074.2041
YMax: 6660235.917099997
Spatial Reference: 102100 (3857) LatestVCSWkid(0)
Full Extent :
XMin: -7039476.7959
YMin: -2448566.0829000026
XMax: 6238074.2041
YMax: 6660235.917099997
Spatial Reference: 102100 (3857) LatestVCSWkid(0)
Pixel Size X : 1.0
Pixel Size Y : 1.0
Band Count : 1
Pixel Type : F32
RasterFunction Infos : {"rasterFunctionInfos": [{ "name": "None", "description": "Make a Raster or Raster Dataset into a Function Raster Dataset.", "help": "" }]}
Mensuration Capabilities : NONE
Has Histograms : false
Has Colormap : false
Has Multi Dimensions : false
Rendering Rule :
Min Scale : 5.91657527591555E8
Max Scale : 4513.988705
Copyright Text : IGN - Esri France
Service Data Type : esriImageServiceDataTypeElevation
Min Values : -77.13750457763672
Max Values : 5000
Mean Values : 339.0955817897708
Standard Deviation Values : 450.4426311673333
Object ID Field : OBJECTID
Fields :
- OBJECTID ( type: esriFieldTypeOID, alias: OBJECTID )
- Shape ( type: esriFieldTypeGeometry, alias: Shape )
- Name ( type: esriFieldTypeString, alias: Name, length: 200 )
- MinPS ( type: esriFieldTypeDouble, alias: MinPS )
- MaxPS ( type: esriFieldTypeDouble, alias: MaxPS )
- LowPS ( type: esriFieldTypeDouble, alias: LowPS )
- HighPS ( type: esriFieldTypeDouble, alias: HighPS )
- Category ( type: esriFieldTypeInteger, alias: Category , Coded Values: [0: Unknown] , [1: Primary] , [2: Overview] , ...6 more... )
- ProductName ( type: esriFieldTypeString, alias: ProductName, length: 100 )
- ZOrder ( type: esriFieldTypeInteger, alias: ZOrder )
- BEST ( type: esriFieldTypeSingle, alias: BEST )
- LE90 ( type: esriFieldTypeSingle, alias: LE90 )
- CE90 ( type: esriFieldTypeSingle, alias: CE90 )
- DEM_TYPE ( type: esriFieldTypeSmallInteger, alias: DEM_TYPE )
- VERTICAL_DATUM ( type: esriFieldTypeString, alias: VERTICAL_DATUM, length: 16 )
- DATASET_ID ( type: esriFieldTypeString, alias: DATASET_ID, length: 35 )
Default Mosaic Method : ByAttribute
Allowed Mosaic Methods : ByAttribute,LockRaster,None
SortField : ZOrder
SortValue : 0
Mosaic Operator : First
Default Compression Quality : 0
Default Resampling Method : Bilinear
Max Record Count : 1000
Max Image Height : 5000
Max Image Width : 5000
Max Download Image Count : 0
Max Mosaic Image Count : 1000
Allow Raster Function : true
Allow Copy : true
Allow Analysis : true
Allow Compute TiePoints : false
Supports Statistics : true
Supports Advanced Queries : true
Use StandardizedQueries : true
Raster Type Infos :
Name: Raster Dataset
Description: Supports all ArcGIS Raster Datasets
Help:
Has Raster Attribute Table : false
Edit Fields Info : null
Ownership Based AccessControl For Rasters : null
Child Resources:
Info
Statistics
Key Properties
Legend
Raster Function Infos
Supported Operations:
Export Image
Query
Identify
Download Rasters
Measure
Compute Histograms
Compute Statistics Histograms
Get Samples
Compute Class Statistics
Query Boundary
Compute Pixel Location
Compute Angles
Validate
Project
Calculate Volume
EstimateExportTilesSize
ExportTiles