View In : ArcGIS JavaScript ArcGIS Online Map Viewer ArcGIS Earth ArcMap View Footprint In : ArcGIS Online Map Viewer Service Description : Ce service compile plusieurs sources d altimétrie (RGE ALTI 1m et BD ALTI) permettant de matérialiser l élévation dans vos couches de scènes 3D. Ce service n est pas adapté pour l analyse spatiale mais dédié uniquement à la visualisation 3D du sol. La méthode de compression LERC dégradant les valeurs de pixels, il est conseillé d utiliser le service Terrain pour vos analyses. Données S1-2020. Service publié en juin 2021.
Name : IGN/France_RGEAlti_Terrain3D
Description : Ce service compile plusieurs sources d altimétrie (RGE ALTI 1m et BD ALTI) permettant de matérialiser l élévation dans vos couches de scènes 3D. Ce service n est pas adapté pour l analyse spatiale mais dédié uniquement à la visualisation 3D du sol. La méthode de compression LERC dégradant les valeurs de pixels, il est conseillé d utiliser le service Terrain pour vos analyses. Données S1-2020. Service publié en juin 2021.
Single Fused Map Cache : false
Extent : XMin: -579686.3704000004
YMin: 5059854.147200003
XMax: 1077189.6295999996
YMax: 6638990.147200003
Spatial Reference: 102100 (3857)
Initial Extent : XMin: -579686.3704000004
YMin: 5059854.147200003
XMax: 1077189.6295999996
YMax: 6638990.147200003
Spatial Reference: 102100 (3857)
Full Extent : XMin: -579686.3704000004
YMin: 5059854.147200003
XMax: 1077189.6295999996
YMax: 6638990.147200003
Spatial Reference: 102100 (3857)
Pixel Size X : 1.0
Pixel Size Y : 1.0
Band Count : 1
Pixel Type : F32
RasterFunction Infos : {"rasterFunctionInfos": [{ "name": "None", "description": "Make a Raster or Raster Dataset into a Function Raster Dataset.", "help": "" }]}
Mensuration Capabilities : Basic
Has Histograms : false
Has Colormap : false
Has Multi Dimensions : false
Rendering Rule : Min Scale : 5.91657527591555E8
Max Scale : 4513.988705
Copyright Text : IGN, Esri France
Service Data Type : esriImageServiceDataTypeElevation
Min Values : -77.13750457763672
Max Values : 5000
Mean Values : 339.0955817897708
Standard Deviation Values : 450.4426311673333
Object ID Field : OBJECTID
Fields : - OBJECTID ( type: esriFieldTypeOID, alias: OBJECTID )
- Shape ( type: esriFieldTypeGeometry, alias: Shape )
- Name ( type: esriFieldTypeString, alias: Name, length: 200 )
- Category ( type: esriFieldTypeInteger, alias: Category , Coded Values: [0: Unknown] , [1: Primary] , [2: Overview] , ...6 more... )
- ProductName ( type: esriFieldTypeString, alias: ProductName, length: 100 )
- BEST ( type: esriFieldTypeSingle, alias: BEST )
- DEM_TYPE ( type: esriFieldTypeSmallInteger, alias: DEM_TYPE )
- Dataset_ID ( type: esriFieldTypeString, alias: Dataset_ID, length: 35 )
Default Mosaic Method : ByAttribute
Allowed Mosaic Methods : ByAttribute,LockRaster,None
SortField : BEST
SortValue : 0
Mosaic Operator : First
Default Compression Quality : 0
Default Resampling Method : Bilinear
Max Record Count : 1000
Max Image Height : 5000
Max Image Width : 5000
Max Download Image Count : 0
Max Mosaic Image Count : 1000
Allow Raster Function : true
Allow Compute TiePoints : false
Supports Statistics : true
Supports Advanced Queries : true
Use StandardizedQueries : true
Raster Type Infos : Name: Raster Dataset
Description: Supports all ArcGIS Raster Datasets
Help:
Has Raster Attribute Table : false
Edit Fields Info : null
Ownership Based AccessControl For Rasters : null
Child Resources:
Info Key Properties Legend MultiDimensionalInfo rasterFunctionInfos Supported Operations:
Export Image Query Identify Measure Compute Histograms Compute Statistics Histograms Get Samples Compute Class Statistics Query Boundary Compute Pixel Location CalculateVolume