View In : ArcGIS JavaScript ArcGIS Online Map Viewer ArcGIS Earth ArcMap View Footprint In : ArcGIS Online Map Viewer Service Description : Ce service compile plusieurs sources d altimétrie (RGE ALTI 1m et BD ALTI) pour vous permettre de réaliser vos analyses spatiales. Le service est publié en projection WebMercator (3857). Il propose des fonctions raster vous permettant de générer les cartes suivantes dynamiquement : -Terrain : Affiche les hauteurs des surfaces au sol -Orientation (Aspect) : Affiche l'orientation du MNT en pente, exprimée en degrés (de 0 à 359,9) dans le sens horaire à partir du nord. Une valeur d'exposition de -1 est affectée aux cellules du raster en entrée qui sont plates -Pente en degrés (Slope) : Calcule la déclivité des changements d'altitude dans la couche Terrain. Les valeurs sont des entiers et représentent l'angle du MNT en pente, exprimé en degrés (de 0 à 90°). -Ombrage : Un ombrage traditionnel est une représentation 3D en nuances de gris de la surface, avec prise en compte de la position relative du soleil pour l'ombrage de l'image. Cette fonction utilise des propriétés d'altitude et d'azimut pour spécifier la position du soleil. -Ombrage MultiDirectionnel : L algorithme utilisé calcule l ombrage à partir de 6 directions différentes, pour lesquelles chaque ombrage est pondéré, puis la somme des résultats est normalisée pour produire l ombrage en sortie. -Hypsométrie : Cette fonction applique un traitement à la volée sur l altimétrie en entrée, afin de générer une représentation du relief colorisé -Contour : Cette fonction génère des isolignes de même altitude à partir d'un jeu de données d'altitude raster. Les isolignes sont créées en tant que rasters pour la visualisation. -Carte d orientation : Applique une palette de couleurs à la couche Orientation. -Carte de pentes : Applique une palette de couleurs à la couche Pente. Note : L export et l analyse sont limités à une taille de 5000 x 5000 pixels par requête. Données S1-2021. Service publié en février 2022.
Name : IGN/FranceDOM_RGEAlti_Terrain
Description : Ce service compile plusieurs sources d altimétrie (RGE ALTI 1m et BD ALTI) pour vous permettre de réaliser vos analyses spatiales. Le service est publié en projection WebMercator (3857). Il propose des fonctions raster vous permettant de générer les cartes suivantes dynamiquement : -Terrain : Affiche les hauteurs des surfaces au sol -Orientation (Aspect) : Affiche l'orientation du MNT en pente, exprimée en degrés (de 0 à 359,9) dans le sens horaire à partir du nord. Une valeur d'exposition de -1 est affectée aux cellules du raster en entrée qui sont plates -Pente en degrés (Slope) : Calcule la déclivité des changements d'altitude dans la couche Terrain. Les valeurs sont des entiers et représentent l'angle du MNT en pente, exprimé en degrés (de 0 à 90°). -Ombrage : Un ombrage traditionnel est une représentation 3D en nuances de gris de la surface, avec prise en compte de la position relative du soleil pour l'ombrage de l'image. Cette fonction utilise des propriétés d'altitude et d'azimut pour spécifier la position du soleil. -Ombrage MultiDirectionnel : L algorithme utilisé calcule l ombrage à partir de 6 directions différentes, pour lesquelles chaque ombrage est pondéré, puis la somme des résultats est normalisée pour produire l ombrage en sortie. -Hypsométrie : Cette fonction applique un traitement à la volée sur l altimétrie en entrée, afin de générer une représentation du relief colorisé -Contour : Cette fonction génère des isolignes de même altitude à partir d'un jeu de données d'altitude raster. Les isolignes sont créées en tant que rasters pour la visualisation. -Carte d orientation : Applique une palette de couleurs à la couche Orientation. -Carte de pentes : Applique une palette de couleurs à la couche Pente. Note : L export et l analyse sont limités à une taille de 5000 x 5000 pixels par requête. Données S1-2021. Service publié en février 2022.
Single Fused Map Cache : false
Extent : XMin: -7039476.7959
YMin: -2448566.0829000026
XMax: 6238074.2041
YMax: 6660235.917099997
Spatial Reference: 102100 (3857)
Initial Extent : XMin: -7039476.7959
YMin: -2448566.0829000026
XMax: 6238074.2041
YMax: 6660235.917099997
Spatial Reference: 102100 (3857)
Full Extent : XMin: -7039476.7959
YMin: -2448566.0829000026
XMax: 6238074.2041
YMax: 6660235.917099997
Spatial Reference: 102100 (3857)
Pixel Size X : 1.0
Pixel Size Y : 1.0
Band Count : 1
Pixel Type : F32
RasterFunction Infos : {"rasterFunctionInfos": [ { "name": "None", "description": "A No-Op Function.", "help": "" }, { "name": "Orientation", "description": "Utilisable pour l'analyse: OUI.\nCette fonction (côté serveur) applique un traitement à la volée sur la donnée d\u2019altimétrie en entrée, afin de générer une couche d\u2019orientation. \nPar défaut, l'orientation apparaît en tant qu'image en nuances de gris. L\u2019orientation représente la direction dans laquelle la pente descendante est orientée. Les valeurs de chaque cellule du raster en sortie indiquent la direction de boussole dans laquelle la surface est orientée à cet emplacement. La mesure s'effectue dans le sens horaire en degrés de 0° (plein nord) à 360° (plein nord également), ce qui trace un cercle plein. La valeur -1 est attribuée aux zones plates qui ne possèdent pas de pente descendante.", "help": "" }, { "name": "Carte d'Orientation", "description": "Utilisable pour l'analyse: NON. \nCette fonction (côté serveur) applique un traitement à la volée sur la donnée d\u2019altimétrie en entrée, afin de générer une couche d\u2019orientation colorisée.", "help": "" }, { "name": "Ombrage", "description": "Utilisable pour l'analyse: NON\nCette fonction (côté serveur) applique un traitement à la volée sur la donnée d\u2019altimétrie en entrée, afin de générer une couche d\u2019ombrage en niveaux de gris.\nUn ombrage traditionnel est une représentation 3D en nuances de gris de la surface, avec prise en compte de la position relative du soleil pour l'ombrage de l'image. Cette fonction utilise des propriétés d'altitude et d'azimut pour spécifier la position du soleil.", "help": "" }, { "name": "Ombrage Multi-Directionnel", "description": "Utilisable pour l'analyse: NON.\n Cette fonction (côté serveur) applique un traitement à la volée sur la donnée d\u2019altimétrie en entrée, afin de générer une couche d\u2019ombrage multi-directionnel en niveaux de gris. L\u2019algorithme utilisé calcule l\u2019ombrage à partir de 6 directions différentes, pour lesquelles chaque ombrage est pondéré, puis la somme des résultats est normalisée pour produire l\u2019ombrage en sortie.", "help": "" }, { "name": "Pentes (Degrés)", "description": "Utilisable pour l'analyse: OUI. \nCette fonction (côté serveur) applique un traitement à la volée sur la donnée d\u2019altimétrie en entrée, afin de générer un service dont elle renvoie la pente (en degrés, de 0 à 90).\nPar défaut, la pente apparaît en tant qu'image en nuances de gris.\nL'inclinaison représente le taux de changement d'altitude pour chaque cellule du modèle numérique de terrain (MNT).", "help": "" }, { "name": "Carte des Pentes (degrés)", "description": "Utilisable pour l'analyse: NON. \nCette fonction (côté serveur) applique un traitement à la volée sur la donnée d\u2019altimétrie en entrée, afin de générer visualisation de la pente colorisée. Les pentes sont représentées comme suit :\n\u2022 surface plane en gris\n\u2022 pente moyenne en jaune\n\u2022 pente plus verticale en rouge-marron", "help": "" }, { "name": "Hypsometrie", "description": "Utilisable pour l'analyse: NON. \nCette fonction (côté serveur) applique un traitement à la volée sur la donnée d\u2019altimétrie en entrée, afin de générer une couche d\u2019ombrage colorisée", "help": "" }, { "name": "Courbes de niveaux", "description": "La fonction Isoligne génère des isolignes de même altitude à partir d'un jeu de données d'altitude raster. Les isolignes sont créées en tant que rasters pour la visualisation.", "help": "" } ]}
Mensuration Capabilities : None
Has Histograms : false
Has Colormap : false
Has Multi Dimensions : false
Rendering Rule : Min Scale : 0
Max Scale : 0
Copyright Text : Esri France - IGN - 2022
Service Data Type : esriImageServiceDataTypeElevation
Min Values : -77
Max Values : 5000
Mean Values : 339
Standard Deviation Values : 450
Object ID Field : OBJECTID
Fields : - OBJECTID ( type: esriFieldTypeOID, alias: OBJECTID )
- Shape ( type: esriFieldTypeGeometry, alias: Shape )
- Name ( type: esriFieldTypeString, alias: Name, length: 200 )
- MinPS ( type: esriFieldTypeDouble, alias: MinPS )
- MaxPS ( type: esriFieldTypeDouble, alias: MaxPS )
- LowPS ( type: esriFieldTypeDouble, alias: LowPS )
- HighPS ( type: esriFieldTypeDouble, alias: HighPS )
- Category ( type: esriFieldTypeInteger, alias: Category , Coded Values: [0: Unknown] , [1: Primary] , [2: Overview] , ...6 more... )
- ProductName ( type: esriFieldTypeString, alias: ProductName, length: 100 )
- BEST ( type: esriFieldTypeSingle, alias: BEST )
- LE90 ( type: esriFieldTypeSingle, alias: LE90 )
- CE90 ( type: esriFieldTypeSingle, alias: CE90 )
- DEM_TYPE ( type: esriFieldTypeSmallInteger, alias: DEM_TYPE )
- VerticalDatum ( type: esriFieldTypeString, alias: VerticalDatum, length: 16 )
- Dataset_ID ( type: esriFieldTypeString, alias: Dataset_ID, length: 35 )
Default Mosaic Method : ByAttribute
Allowed Mosaic Methods : ByAttribute,LockRaster,None
SortField : BEST
SortValue : 0
Mosaic Operator : First
Default Compression Quality : 85
Default Resampling Method : Bilinear
Max Record Count : 1000
Max Image Height : 5000
Max Image Width : 5000
Max Download Image Count : 0
Max Mosaic Image Count : 1000
Allow Raster Function : true
Allow Compute TiePoints : false
Supports Statistics : true
Supports Advanced Queries : true
Use StandardizedQueries : true
Raster Type Infos : Name: Raster Dataset
Description: Supports all ArcGIS Raster Datasets
Help:
Has Raster Attribute Table : false
Edit Fields Info : null
Ownership Based AccessControl For Rasters : null
Child Resources:
Info Key Properties Legend MultiDimensionalInfo rasterFunctionInfos Supported Operations:
Export Image Query Identify Measure Compute Histograms Compute Statistics Histograms Get Samples Compute Class Statistics Query Boundary Compute Pixel Location CalculateVolume