{
 "currentVersion": 10.91,
 "serviceDescription": " Ce service compile plusieurs sources d\u2019altimétrie (RGE ALTI 1m et BD ALTI) permettant de matérialiser l\u2019élévation dans vos couches de scènes 3D. Ce service n\u2019est pas adapté pour l\u2019analyse spatiale mais dédié uniquement à la visualisation 3D du sol. La méthode de compression LERC dégradant les valeurs de pixels, il est conseillé d\u2019utiliser le service Terrain pour vos analyses. Données de décembre 2024. Publication du service : novembre 2025.",
 "name": "IGN/France_RGEAlti_Terrain",
 "description": " Ce service compile plusieurs sources d\u2019altimétrie (RGE ALTI 1m et BD ALTI) permettant de matérialiser l\u2019élévation dans vos couches de scènes 3D. Ce service n\u2019est pas adapté pour l\u2019analyse spatiale mais dédié uniquement à la visualisation 3D du sol. La méthode de compression LERC dégradant les valeurs de pixels, il est conseillé d\u2019utiliser le service Terrain pour vos analyses. Données de décembre 2024. Publication du service : novembre 2025.",
 "extent": {
  "xmin": -6308807.5286,
  "ymin": 5030459.917100003,
  "xmax": 1086830.4714000002,
  "ymax": 6660235.917100003,
  "spatialReference": {
   "wkid": 102100,
   "latestWkid": 3857
  }
 },
 "initialExtent": {
  "xmin": -6308807.5286,
  "ymin": 5030459.917100003,
  "xmax": 1086830.4714000002,
  "ymax": 6660235.917100003,
  "spatialReference": {
   "wkid": 102100,
   "latestWkid": 3857
  }
 },
 "fullExtent": {
  "xmin": -6308807.5286,
  "ymin": 5030459.917100003,
  "xmax": 1086830.4714000002,
  "ymax": 6660235.917100003,
  "spatialReference": {
   "wkid": 102100,
   "latestWkid": 3857
  }
 },
 "hasMultidimensions": false,
 "pixelSizeX": 1,
 "pixelSizeY": 1,
 "datasetFormat": "AMD",
 "uncompressedSize": 48212933268352,
 "blockWidth": 2048,
 "blockHeight": 256,
 "compressionType": "None",
 "bandNames": [
  "Band_1"
 ],
 "allowCopy": true,
 "allowAnalysis": true,
 "bandCount": 1,
 "pixelType": "F32",
 "minPixelSize": 0,
 "maxPixelSize": 0,
 "copyrightText": "IGN - Esri France",
 "serviceDataType": "esriImageServiceDataTypeElevation",
 "serviceSourceType": "esriImageServiceSourceTypeMosaicDataset",
 "minValues": [
  -77.13750457763672
 ],
 "maxValues": [
  5000
 ],
 "meanValues": [
  339.0955817897708
 ],
 "stdvValues": [
  450.4426311673333
 ],
 "objectIdField": "OBJECTID",
 "fields": [
  {
   "name": "OBJECTID",
   "type": "esriFieldTypeOID",
   "alias": "OBJECTID",
   "domain": null
  },
  {
   "name": "Shape",
   "type": "esriFieldTypeGeometry",
   "alias": "Shape",
   "domain": null
  },
  {
   "name": "Name",
   "type": "esriFieldTypeString",
   "alias": "Name",
   "domain": null,
   "length": 200
  },
  {
   "name": "MinPS",
   "type": "esriFieldTypeDouble",
   "alias": "MinPS",
   "domain": null
  },
  {
   "name": "MaxPS",
   "type": "esriFieldTypeDouble",
   "alias": "MaxPS",
   "domain": null
  },
  {
   "name": "LowPS",
   "type": "esriFieldTypeDouble",
   "alias": "LowPS",
   "domain": null
  },
  {
   "name": "HighPS",
   "type": "esriFieldTypeDouble",
   "alias": "HighPS",
   "domain": null
  },
  {
   "name": "Category",
   "type": "esriFieldTypeInteger",
   "alias": "Category",
   "domain": {
    "type": "codedValue",
    "name": "MosaicCatalogItemCategoryDomain",
    "description": "Catalog item categories.",
    "codedValues": [
     {
      "name": "Unknown",
      "code": 0
     },
     {
      "name": "Primary",
      "code": 1
     },
     {
      "name": "Overview",
      "code": 2
     },
     {
      "name": "Unprocessed Overview",
      "code": 3
     },
     {
      "name": "Partial Overview",
      "code": 4
     },
     {
      "name": "Inactive",
      "code": 5
     },
     {
      "name": "Uploaded",
      "code": 253
     },
     {
      "name": "Incomplete",
      "code": 254
     },
     {
      "name": "Custom",
      "code": 255
     }
    ],
    "mergePolicy": "esriMPTDefaultValue",
    "splitPolicy": "esriSPTDefaultValue"
   }
  },
  {
   "name": "ProductName",
   "type": "esriFieldTypeString",
   "alias": "ProductName",
   "domain": null,
   "length": 100
  },
  {
   "name": "ZOrder",
   "type": "esriFieldTypeInteger",
   "alias": "ZOrder",
   "domain": null
  },
  {
   "name": "BEST",
   "type": "esriFieldTypeSingle",
   "alias": "BEST",
   "domain": null
  },
  {
   "name": "LE90",
   "type": "esriFieldTypeSingle",
   "alias": "LE90",
   "domain": null
  },
  {
   "name": "CE90",
   "type": "esriFieldTypeSingle",
   "alias": "CE90",
   "domain": null
  },
  {
   "name": "DEM_TYPE",
   "type": "esriFieldTypeSmallInteger",
   "alias": "DEM_TYPE",
   "domain": null
  },
  {
   "name": "VERTICAL_DATUM",
   "type": "esriFieldTypeString",
   "alias": "VERTICAL_DATUM",
   "domain": null,
   "length": 16
  },
  {
   "name": "DATASET_ID",
   "type": "esriFieldTypeString",
   "alias": "DATASET_ID",
   "domain": null,
   "length": 35
  }
 ],
 "capabilities": "Catalog,Mensuration,Pixels,Download,Image,Metadata",
 "defaultMosaicMethod": "ByAttribute",
 "allowedMosaicMethods": "ByAttribute,LockRaster,None",
 "sortField": "ZOrder",
 "sortValue": "0",
 "sortAscending": true,
 "mosaicOperator": "First",
 "maxDownloadSizeLimit": 2048,
 "defaultCompressionQuality": 85,
 "defaultResamplingMethod": "Bilinear",
 "maxImageHeight": 5000,
 "maxImageWidth": 5000,
 "maxRecordCount": 1000,
 "maxDownloadImageCount": 0,
 "maxMosaicImageCount": 1000,
 "allowRasterFunction": true,
 "rasterFunctionInfos": [
  {
   "name": "None",
   "description": "Make a Raster or Raster Dataset into a Function Raster Dataset.",
   "help": ""
  },
  {
   "name": "Orientation",
   "description": "Utilisable pour l'analyse: OUI.\nCette fonction (côté serveur) applique un traitement à la volée sur la donnée d\u2019altimétrie en entrée, afin de générer une couche d\u2019orientation. \nPar défaut, l'orientation apparaît en tant qu'image en nuances de gris. L\u2019orientation représente la direction dans laquelle la pente descendante est orientée. Les valeurs de chaque cellule du raster en sortie indiquent la direction de boussole dans laquelle la surface est orientée à cet emplacement. La mesure s'effectue dans le sens horaire en degrés de 0° (plein nord) à 360° (plein nord également), ce qui trace un cercle plein. La valeur -1 est attribuée aux zones plates qui ne possèdent pas de pente descendante.",
   "help": ""
  },
  {
   "name": "Carte d'Orientation",
   "description": "Utilisable pour l'analyse: NON. \nCette fonction (côté serveur) applique un traitement à la volée sur la donnée d\u2019altimétrie en entrée, afin de générer une couche d\u2019orientation colorisée.",
   "help": ""
  },
  {
   "name": "Ombrage",
   "description": "Utilisable pour l'analyse: NON\nCette fonction (côté serveur) applique un traitement à la volée sur la donnée d\u2019altimétrie en entrée, afin de générer une couche d\u2019ombrage en niveaux de gris.\nUn ombrage traditionnel est une représentation 3D en nuances de gris de la surface, avec prise en compte de la position relative du soleil pour l'ombrage de l'image. Cette fonction utilise des propriétés d'altitude et d'azimut pour spécifier la position du soleil.",
   "help": ""
  },
  {
   "name": "Ombrage Multi-Directionnel",
   "description": "Utilisable pour l'analyse: NON.\n Cette fonction (côté serveur) applique un traitement à la volée sur la donnée d\u2019altimétrie en entrée, afin de générer une couche d\u2019ombrage multi-directionnel en niveaux de gris. L\u2019algorithme utilisé calcule l\u2019ombrage à partir de 6 directions différentes, pour lesquelles chaque ombrage est pondéré, puis la somme des résultats est normalisée pour produire l\u2019ombrage en sortie.",
   "help": ""
  },
  {
   "name": "Pentes (Degrés)",
   "description": "Utilisable pour l'analyse: OUI. \nCette fonction (côté serveur) applique un traitement à la volée sur la donnée d\u2019altimétrie en entrée, afin de générer un service dont elle renvoie la pente (en degrés, de 0 à 90).\nPar défaut, la pente apparaît en tant qu'image en nuances de gris.\nL'inclinaison représente le taux de changement d'altitude pour chaque cellule du modèle numérique de terrain (MNT).",
   "help": ""
  },
  {
   "name": "Pente (Pourcentage)",
   "description": "PercentRise (Pourcentage d\u2019élévation) pour l'analyse: OUI\n Cette fonction (côté serveur) applique un traitement à la volée sur la donnée d\u2019altimétrie en entrée, afin de générer une couche l\u2019inclinaison de la pente en valeurs de pourcentage. Les valeurs autorisées sont comprises entre 0 et l\u2019infini. Une surface plate correspond à 0 pour cent d\u2019élévation et une surface à 45 degrés correspond à 100 pour cent d\u2019élévation. Au fur et à mesure que la surface devient de plus en plus verticale, le pourcentage d\u2019élévation augmente",
   "help": "Utilisable pour l'analyse: OUI. \nCette fonction (côté serveur) applique un traitement à la volée sur la donnée d\u2019altimétrie en entrée, afin de générer un service dont elle renvoie la pente (en pourcentage).\nPar défaut, la pente apparaît en tant qu'image en nuances de gris.Les valeurs autorisées sont comprises entre 0 et l\u2019infini. Une surface plate correspond à 0 pour cent d\u2019élévation et une surface à 45 degrés correspond à 100 pour cent d\u2019élévation"
  },
  {
   "name": "Carte des Pentes (degrés)",
   "description": "Utilisable pour l'analyse: NON. \nCette fonction (côté serveur) applique un traitement à la volée sur la donnée d\u2019altimétrie en entrée, afin de générer visualisation de la pente colorisée. Les pentes sont représentées comme suit :\n\u2022 surface plane en gris\n\u2022 pente moyenne en jaune\n\u2022 pente plus verticale en rouge-marron",
   "help": ""
  },
  {
   "name": "Hypsometrie",
   "description": "Utilisable pour l'analyse: NON. \nCette fonction (côté serveur) applique un traitement à la volée sur la donnée d\u2019altimétrie en entrée, afin de générer une couche d\u2019ombrage colorisée",
   "help": ""
  },
  {
   "name": "Courbes de niveaux",
   "description": "La fonction Isoligne génère des isolignes de même altitude à partir d'un jeu de données d'altitude raster. Les isolignes sont créées en tant que rasters pour la visualisation.",
   "help": ""
  }
 ],
 "rasterTypeInfos": [
  {
   "name": "Raster Dataset",
   "description": "Supports all ArcGIS Raster Datasets",
   "help": ""
  }
 ],
 "mensurationCapabilities": "None",
 "hasHistograms": false,
 "hasColormap": false,
 "hasRasterAttributeTable": false,
 "minScale": 0,
 "maxScale": 0,
 "exportTilesAllowed": false,
 "supportsStatistics": true,
 "supportsAdvancedQueries": true,
 "editFieldsInfo": null,
 "ownershipBasedAccessControlForRasters": null,
 "allowComputeTiePoints": false,
 "useStandardizedQueries": true,
 "advancedQueryCapabilities": {
  "useStandardizedQueries": true,
  "supportsStatistics": true,
  "supportsOrderBy": true,
  "supportsDistinct": true,
  "supportsPagination": true
 },
 "spatialReference": {
  "wkid": 102100,
  "latestWkid": 3857
 }
}
